BEGIN:VCALENDAR
VERSION:2.0
PRODID:-//Payne County Expo Center - ECPv6.15.20//NONSGML v1.0//EN
CALSCALE:GREGORIAN
METHOD:PUBLISH
X-ORIGINAL-URL:https://pcexpocenter.com
X-WR-CALDESC:Events for Payne County Expo Center
REFRESH-INTERVAL;VALUE=DURATION:PT1H
X-Robots-Tag:noindex
X-PUBLISHED-TTL:PT1H
BEGIN:VTIMEZONE
TZID:America/Chicago
BEGIN:DAYLIGHT
TZOFFSETFROM:-0600
TZOFFSETTO:-0500
TZNAME:CDT
DTSTART:20210314T080000
END:DAYLIGHT
BEGIN:STANDARD
TZOFFSETFROM:-0500
TZOFFSETTO:-0600
TZNAME:CST
DTSTART:20211107T070000
END:STANDARD
BEGIN:DAYLIGHT
TZOFFSETFROM:-0600
TZOFFSETTO:-0500
TZNAME:CDT
DTSTART:20220313T080000
END:DAYLIGHT
BEGIN:STANDARD
TZOFFSETFROM:-0500
TZOFFSETTO:-0600
TZNAME:CST
DTSTART:20221106T070000
END:STANDARD
BEGIN:DAYLIGHT
TZOFFSETFROM:-0600
TZOFFSETTO:-0500
TZNAME:CDT
DTSTART:20230312T080000
END:DAYLIGHT
BEGIN:STANDARD
TZOFFSETFROM:-0500
TZOFFSETTO:-0600
TZNAME:CST
DTSTART:20231105T070000
END:STANDARD
BEGIN:DAYLIGHT
TZOFFSETFROM:-0600
TZOFFSETTO:-0500
TZNAME:CDT
DTSTART:20240310T080000
END:DAYLIGHT
BEGIN:STANDARD
TZOFFSETFROM:-0500
TZOFFSETTO:-0600
TZNAME:CST
DTSTART:20241103T070000
END:STANDARD
BEGIN:DAYLIGHT
TZOFFSETFROM:-0600
TZOFFSETTO:-0500
TZNAME:CDT
DTSTART:20250309T080000
END:DAYLIGHT
BEGIN:STANDARD
TZOFFSETFROM:-0500
TZOFFSETTO:-0600
TZNAME:CST
DTSTART:20251102T070000
END:STANDARD
END:VTIMEZONE
BEGIN:VEVENT
DTSTART;TZID=America/Chicago:20240801T120000
DTEND;TZID=America/Chicago:20240801T220000
DTSTAMP:20260422T180107
CREATED:20240105T180827Z
LAST-MODIFIED:20240321T170241Z
UID:3227-1722513600-1722549600@pcexpocenter.com
SUMMARY:Cowboy Classic Boer Goat Sale ( Move in Day )
DESCRIPTION:Contact: Sammy Lorena \nTelephone: ( 254 ) 977 – 4267 \nCatalog: Goat Promoter \nFacebook: Cowboy Classic Boer Goat Sales
URL:https://pcexpocenter.com/event/cowboy-classic-boer-goat-sale-move-in-day-12/
LOCATION:Livestock Pavilion
CATEGORIES:Public Events
END:VEVENT
BEGIN:VEVENT
DTSTART;TZID=America/Chicago:20240405T080000
DTEND;TZID=America/Chicago:20240405T220000
DTSTAMP:20260422T180107
CREATED:20240105T180302Z
LAST-MODIFIED:20240321T165957Z
UID:3222-1712304000-1712354400@pcexpocenter.com
SUMMARY:Cowboy Classic Boer Goat Sale ( Move in Day )
DESCRIPTION:Contact: Sammy Lerena \nTelephone: ( 254  ) 977 – 4267 \nCatalog: Goat Promoter \nFacebook: Cowboy Classic Boer Goat Sale
URL:https://pcexpocenter.com/event/cowboy-classic-boer-goat-sale-move-in-day-11/
LOCATION:Livestock Pavilion
CATEGORIES:Public Events
END:VEVENT
BEGIN:VEVENT
DTSTART;TZID=America/Chicago:20240404T120000
DTEND;TZID=America/Chicago:20240404T220000
DTSTAMP:20260422T180107
CREATED:20240105T180018Z
LAST-MODIFIED:20240321T165825Z
UID:3220-1712232000-1712268000@pcexpocenter.com
SUMMARY:Cowboy Classic Boer Goat Sale ( Move in Day )
DESCRIPTION:Contact: Sammy Lerena \nTelephone: ( 254 ) 977 – 4267 \nCatalog: Goat Promoter \nFacebook: Cowboy Classic Boer Goat Sales
URL:https://pcexpocenter.com/event/cowboy-classic-boer-goat-sale-move-in-day-10/
LOCATION:Livestock Pavilion
CATEGORIES:Public Events
END:VEVENT
BEGIN:VEVENT
DTSTART;TZID=America/Chicago:20231104T120000
DTEND;TZID=America/Chicago:20231104T170000
DTSTAMP:20260422T180107
CREATED:20230203T174623Z
LAST-MODIFIED:20230208T153044Z
UID:2039-1699099200-1699117200@pcexpocenter.com
SUMMARY:Cowboy Classic Boer Goat Sale
DESCRIPTION:Website: boergoats.com \nContact: Sammy Lerena \nTelephone: ( 254 ) 977 – 4267 \nNo cost to get bidder number.
URL:https://pcexpocenter.com/event/cowboy-classic-boer-goat-sale-3/
LOCATION:Livestock Pavilion
CATEGORIES:Public Events
END:VEVENT
BEGIN:VEVENT
DTSTART;TZID=America/Chicago:20231103T080000
DTEND;TZID=America/Chicago:20231103T220000
DTSTAMP:20260422T180107
CREATED:20230203T174440Z
LAST-MODIFIED:20230208T152831Z
UID:2037-1698998400-1699048800@pcexpocenter.com
SUMMARY:Cowboy Classic Boer Goat Sale ( Move in Day )
DESCRIPTION:Website: boergoats.com \nContact person: Sammy Lerena \nTelephone: ( 254 ) 977 – 4267 \nNo cost to get bidder number.
URL:https://pcexpocenter.com/event/cowboy-classic-boer-goat-sale-move-in-day-7/
LOCATION:Livestock Pavilion
CATEGORIES:Private Events
END:VEVENT
BEGIN:VEVENT
DTSTART;TZID=America/Chicago:20230804T080000
DTEND;TZID=America/Chicago:20230804T220000
DTSTAMP:20260422T180107
CREATED:20230208T154046Z
LAST-MODIFIED:20230208T154246Z
UID:2063-1691136000-1691186400@pcexpocenter.com
SUMMARY:Cowboy Classic Boer Goat Sale ( Move in Day)
DESCRIPTION:Facebook: Cowboy Classic Boer Goat Sales \nContact: Sammy Lerena \nTelephone: ( 254 ) 977 – 4267 \nNo cost to get bidder number.
URL:https://pcexpocenter.com/event/cowboy-classic-boer-goat-sale-move-in-day-9/
LOCATION:Livestock Pavilion
CATEGORIES:Private Events
END:VEVENT
BEGIN:VEVENT
DTSTART;TZID=America/Chicago:20230803T120000
DTEND;TZID=America/Chicago:20230803T220000
DTSTAMP:20260422T180107
CREATED:20230208T153539Z
LAST-MODIFIED:20230208T153547Z
UID:2061-1691064000-1691100000@pcexpocenter.com
SUMMARY:Cowboy Classic Boer Goat Sale ( Move in Day )
DESCRIPTION:Facebook: Cowboy Classic Boer Goat Sales \nContact: Sammy Lerena \nTelephone: ( 254 ) 977 – 4267 \nNo cost to get bidder number.
URL:https://pcexpocenter.com/event/cowboy-classic-boer-goat-sale-move-in-day-8/
LOCATION:Livestock Pavilion
CATEGORIES:Private Events
END:VEVENT
BEGIN:VEVENT
DTSTART;TZID=America/Chicago:20230330T120000
DTEND;TZID=America/Chicago:20230330T220000
DTSTAMP:20260422T180107
CREATED:20230125T153427Z
LAST-MODIFIED:20230208T151910Z
UID:1653-1680177600-1680213600@pcexpocenter.com
SUMMARY:Cowboy Classic Boer Goat Sale ( Move in Day )
DESCRIPTION:Contact: Sammy Lerena ( 254 – 977 – 4267 or Shannon Swepston ( 918 ) 616 – 3570 \nFacebook: Cowboy Classic Boer Goat Sales \nWebsite: www.boergoats.com \nNo cost to get bidder numbers.
URL:https://pcexpocenter.com/event/cowboy-classic-boer-goat-sale-move-in-day-4/
LOCATION:Livestock Pavilion
CATEGORIES:Private Events
END:VEVENT
BEGIN:VEVENT
DTSTART;TZID=America/Chicago:20230325T060000
DTEND;TZID=America/Chicago:20230325T190000
DTSTAMP:20260422T180107
CREATED:20221107T202919Z
LAST-MODIFIED:20230120T202340Z
UID:991-1679724000-1679770800@pcexpocenter.com
SUMMARY:Tulsa Rabbit Breeders Show
DESCRIPTION:Contact: Deb Morrison \nTelephone: ( 918 ) 695 – 2192
URL:https://pcexpocenter.com/event/tulsa-rabbit-breeders-show/
LOCATION:Livestock Pavilion
CATEGORIES:Public Events
END:VEVENT
BEGIN:VEVENT
DTSTART;TZID=America/Chicago:20230211T080000
DTEND;TZID=America/Chicago:20230211T170000
DTSTAMP:20260422T180107
CREATED:20230104T203644Z
LAST-MODIFIED:20230112T163134Z
UID:1255-1676102400-1676134800@pcexpocenter.com
SUMMARY:Ripley FFA Local Livestock Show
DESCRIPTION:Contact: Mr. McGolden \nTelephone: ( 918 ) 372 – 4245
URL:https://pcexpocenter.com/event/ripley-ffa-local-livestock-show/
LOCATION:Livestock Pavilion
CATEGORIES:Livestock Shows
END:VEVENT
BEGIN:VEVENT
DTSTART;TZID=America/Chicago:20221115T160000
DTEND;TZID=America/Chicago:20221115T180000
DTSTAMP:20260422T180107
CREATED:20221107T104857Z
LAST-MODIFIED:20221109T170941Z
UID:686-1668528000-1668535200@pcexpocenter.com
SUMMARY:EAST 51 WATER DISTRICT DRIVE THROUGH ANNUAL MEETING
DESCRIPTION:Private Event.
URL:https://pcexpocenter.com/event/east-51-water-district-drive-through-annual-meeting/
LOCATION:Livestock Pavilion
CATEGORIES:Private Events
END:VEVENT
BEGIN:VEVENT
DTSTART;TZID=America/Chicago:20221006T120000
DTEND;TZID=America/Chicago:20221006T200000
DTSTAMP:20260422T180107
CREATED:20221027T172033Z
LAST-MODIFIED:20221108T194155Z
UID:583-1665057600-1665086400@pcexpocenter.com
SUMMARY:CREC Annual Meeting (Drive Through)
DESCRIPTION:Annual Meeting. Use all drive lanes around the buildings.
URL:https://pcexpocenter.com/event/crec-annual-meeting-drive-through/
LOCATION:Livestock Pavilion
CATEGORIES:Private Events
END:VEVENT
END:VCALENDAR