BEGIN:VCALENDAR
VERSION:2.0
PRODID:-//Payne County Expo Center - ECPv6.15.20//NONSGML v1.0//EN
CALSCALE:GREGORIAN
METHOD:PUBLISH
X-ORIGINAL-URL:https://pcexpocenter.com
X-WR-CALDESC:Events for Payne County Expo Center
REFRESH-INTERVAL;VALUE=DURATION:PT1H
X-Robots-Tag:noindex
X-PUBLISHED-TTL:PT1H
BEGIN:VTIMEZONE
TZID:America/Chicago
BEGIN:DAYLIGHT
TZOFFSETFROM:-0600
TZOFFSETTO:-0500
TZNAME:CDT
DTSTART:20210314T080000
END:DAYLIGHT
BEGIN:STANDARD
TZOFFSETFROM:-0500
TZOFFSETTO:-0600
TZNAME:CST
DTSTART:20211107T070000
END:STANDARD
BEGIN:DAYLIGHT
TZOFFSETFROM:-0600
TZOFFSETTO:-0500
TZNAME:CDT
DTSTART:20220313T080000
END:DAYLIGHT
BEGIN:STANDARD
TZOFFSETFROM:-0500
TZOFFSETTO:-0600
TZNAME:CST
DTSTART:20221106T070000
END:STANDARD
BEGIN:DAYLIGHT
TZOFFSETFROM:-0600
TZOFFSETTO:-0500
TZNAME:CDT
DTSTART:20230312T080000
END:DAYLIGHT
BEGIN:STANDARD
TZOFFSETFROM:-0500
TZOFFSETTO:-0600
TZNAME:CST
DTSTART:20231105T070000
END:STANDARD
BEGIN:DAYLIGHT
TZOFFSETFROM:-0600
TZOFFSETTO:-0500
TZNAME:CDT
DTSTART:20240310T080000
END:DAYLIGHT
BEGIN:STANDARD
TZOFFSETFROM:-0500
TZOFFSETTO:-0600
TZNAME:CST
DTSTART:20241103T070000
END:STANDARD
BEGIN:DAYLIGHT
TZOFFSETFROM:-0600
TZOFFSETTO:-0500
TZNAME:CDT
DTSTART:20250309T080000
END:DAYLIGHT
BEGIN:STANDARD
TZOFFSETFROM:-0500
TZOFFSETTO:-0600
TZNAME:CST
DTSTART:20251102T070000
END:STANDARD
BEGIN:DAYLIGHT
TZOFFSETFROM:-0600
TZOFFSETTO:-0500
TZNAME:CDT
DTSTART:20260308T080000
END:DAYLIGHT
BEGIN:STANDARD
TZOFFSETFROM:-0500
TZOFFSETTO:-0600
TZNAME:CST
DTSTART:20261101T070000
END:STANDARD
END:VTIMEZONE
BEGIN:VEVENT
DTSTART;TZID=America/Chicago:20251108T090000
DTEND;TZID=America/Chicago:20251108T160000
DTSTAMP:20260422T142931
CREATED:20241018T212259Z
LAST-MODIFIED:20251107T154927Z
UID:4049-1762592400-1762617600@pcexpocenter.com
SUMMARY:Fall Festival Craft Show
DESCRIPTION:Contact: Sue Roberson \nTelephone: ( 405 ) 747 – 7206
URL:https://pcexpocenter.com/event/fall-festival-craft-show-9/
LOCATION:Expo Hall / Heritage Hall /Community Building / McVey Arena
CATEGORIES:Public Events
END:VEVENT
BEGIN:VEVENT
DTSTART;TZID=America/Chicago:20251107T100000
DTEND;TZID=America/Chicago:20251107T170000
DTSTAMP:20260422T142931
CREATED:20241018T212036Z
LAST-MODIFIED:20251107T155050Z
UID:4047-1762509600-1762534800@pcexpocenter.com
SUMMARY:Fall Festival Craft Show
DESCRIPTION:Contact: Sue Roberson \nTelephone: ( 405 ) 747 – 7206
URL:https://pcexpocenter.com/event/fall-festival-craft-show-8/
LOCATION:Expo Hall / Heritage Hall /Community Building / McVey Arena
CATEGORIES:Public Events
END:VEVENT
BEGIN:VEVENT
DTSTART;TZID=America/Chicago:20251106T120000
DTEND;TZID=America/Chicago:20251106T190000
DTSTAMP:20260422T142931
CREATED:20241018T211859Z
LAST-MODIFIED:20241018T211905Z
UID:4045-1762430400-1762455600@pcexpocenter.com
SUMMARY:Fall Festival Craft Show ( Move in Day Only )
DESCRIPTION:Contact: Sue Roberson \nTelephone: ( 405 ) 747 – 7206
URL:https://pcexpocenter.com/event/fall-festival-craft-show-move-in-day-only-2/
LOCATION:Expo Hall / Heritage Hall /Community Building / McVey Arena
CATEGORIES:Private Events
END:VEVENT
BEGIN:VEVENT
DTSTART;TZID=America/Chicago:20241207T090000
DTEND;TZID=America/Chicago:20241207T170000
DTSTAMP:20260422T142931
CREATED:20231201T195630Z
LAST-MODIFIED:20231201T201915Z
UID:3162-1733562000-1733590800@pcexpocenter.com
SUMMARY:Holiday Craft Show
DESCRIPTION:Contact: Teri Aldridge \nTelephone: ( 580 ) 455 – 2273
URL:https://pcexpocenter.com/event/holiday-craft-show-3/
LOCATION:Expo Hall / Heritage Hall /Community Building / McVey Arena
CATEGORIES:Public Events
END:VEVENT
BEGIN:VEVENT
DTSTART;TZID=America/Chicago:20241103T100000
DTEND;TZID=America/Chicago:20241103T160000
DTSTAMP:20260422T142931
CREATED:20231127T201126Z
LAST-MODIFIED:20231127T201131Z
UID:3113-1730628000-1730649600@pcexpocenter.com
SUMMARY:Fall Festival Craft Show
DESCRIPTION:Contact: Sue Roberson \nTelephone: ( 405 ) 747 – 7206
URL:https://pcexpocenter.com/event/fall-festival-craft-show-7/
LOCATION:Expo Hall / Heritage Hall /Community Building / McVey Arena
CATEGORIES:Public Events
END:VEVENT
BEGIN:VEVENT
DTSTART;TZID=America/Chicago:20241102T090000
DTEND;TZID=America/Chicago:20241102T170000
DTSTAMP:20260422T142931
CREATED:20231127T200931Z
LAST-MODIFIED:20231127T200937Z
UID:3111-1730538000-1730566800@pcexpocenter.com
SUMMARY:Fall Festival Craft Show
DESCRIPTION:Contact: Sue Roberson \nTelephone: ( 405 ) 747 – 7206
URL:https://pcexpocenter.com/event/fall-festival-craft-show-6/
LOCATION:Expo Hall / Heritage Hall /Community Building / McVey Arena
CATEGORIES:Public Events
END:VEVENT
BEGIN:VEVENT
DTSTART;TZID=America/Chicago:20241101T100000
DTEND;TZID=America/Chicago:20241101T170000
DTSTAMP:20260422T142931
CREATED:20231127T200746Z
LAST-MODIFIED:20231127T200753Z
UID:3109-1730455200-1730480400@pcexpocenter.com
SUMMARY:Fall Festival Craft Show
DESCRIPTION:Contact: Sue Roberson \nTelephone: ( 405 ) 747 – 7206
URL:https://pcexpocenter.com/event/fall-festival-craft-show-5/
LOCATION:Expo Hall / Heritage Hall /Community Building / McVey Arena
CATEGORIES:Public Events
END:VEVENT
BEGIN:VEVENT
DTSTART;TZID=America/Chicago:20241031T080000
DTEND;TZID=America/Chicago:20241031T190000
DTSTAMP:20260422T142931
CREATED:20231127T200547Z
LAST-MODIFIED:20231127T200552Z
UID:3107-1730361600-1730401200@pcexpocenter.com
SUMMARY:Fall Festival Craft Show ( Move in Day Only )
DESCRIPTION:Contact: Sue Roberson \nTelephone: ( 405 ) 747 – 7206
URL:https://pcexpocenter.com/event/fall-festival-craft-show-move-in-day-only/
LOCATION:Expo Hall / Heritage Hall /Community Building / McVey Arena
CATEGORIES:Public Events
END:VEVENT
BEGIN:VEVENT
DTSTART;TZID=America/Chicago:20240328T080000
DTEND;TZID=America/Chicago:20240328T170000
DTSTAMP:20260422T142931
CREATED:20230816T154830Z
LAST-MODIFIED:20230816T202253Z
UID:2748-1711612800-1711645200@pcexpocenter.com
SUMMARY:FCCLA STAR Event
DESCRIPTION:$5 per competitor. \nWebsite: OklahomaFCCLA.org
URL:https://pcexpocenter.com/event/fccla-star-event-2/
LOCATION:Expo Hall / Heritage Hall /Community Building / McVey Arena
CATEGORIES:Private Events
END:VEVENT
BEGIN:VEVENT
DTSTART;TZID=America/Chicago:20240327T080000
DTEND;TZID=America/Chicago:20240327T170000
DTSTAMP:20260422T142931
CREATED:20230816T154639Z
LAST-MODIFIED:20230816T202028Z
UID:2746-1711526400-1711558800@pcexpocenter.com
SUMMARY:FCCLA STAR Event
DESCRIPTION:$5 per competitor. \nWebsite: Oklahoma FCCLA.org
URL:https://pcexpocenter.com/event/fccla-star-event/
LOCATION:Expo Hall / Heritage Hall /Community Building / McVey Arena
CATEGORIES:Private Events
END:VEVENT
BEGIN:VEVENT
DTSTART;TZID=America/Chicago:20240326T080000
DTEND;TZID=America/Chicago:20240326T170000
DTSTAMP:20260422T142931
CREATED:20230816T152921Z
LAST-MODIFIED:20230816T152921Z
UID:2744-1711440000-1711472400@pcexpocenter.com
SUMMARY:FCCLA STAR Event ( Move in Day Only )
DESCRIPTION:
URL:https://pcexpocenter.com/event/fccla-star-event-move-in-day-only/
LOCATION:Expo Hall / Heritage Hall /Community Building / McVey Arena
CATEGORIES:Private Events
END:VEVENT
BEGIN:VEVENT
DTSTART;TZID=America/Chicago:20231202T090000
DTEND;TZID=America/Chicago:20231202T170000
DTSTAMP:20260422T142931
CREATED:20230411T204624Z
LAST-MODIFIED:20230411T204631Z
UID:2313-1701507600-1701536400@pcexpocenter.com
SUMMARY:Holiday Craft Show
DESCRIPTION:Contact; Teri Aldridge \nTelephone: ( 580 ) 455 – 2273
URL:https://pcexpocenter.com/event/holiday-craft-show-2/
LOCATION:Expo Hall / Heritage Hall /Community Building / McVey Arena
CATEGORIES:Public Events
END:VEVENT
BEGIN:VEVENT
DTSTART;TZID=America/Chicago:20231105T110000
DTEND;TZID=America/Chicago:20231105T170000
DTSTAMP:20260422T142931
CREATED:20230203T173427Z
LAST-MODIFIED:20230203T173434Z
UID:2031-1699182000-1699203600@pcexpocenter.com
SUMMARY:Fall Festival Craft Show
DESCRIPTION:Contact: Creative Productions \nTelephone: ( 405 ) 747 – 7206 \nEmail; fallfestivalofstillwater@gmail.com
URL:https://pcexpocenter.com/event/fall-festival-craft-show-4/
LOCATION:Expo Hall / Heritage Hall /Community Building / McVey Arena
CATEGORIES:Public Events
END:VEVENT
BEGIN:VEVENT
DTSTART;TZID=America/Chicago:20231104T090000
DTEND;TZID=America/Chicago:20231104T180000
DTSTAMP:20260422T142931
CREATED:20230203T173023Z
LAST-MODIFIED:20230203T173605Z
UID:2029-1699088400-1699120800@pcexpocenter.com
SUMMARY:Fall Festival Craft Show
DESCRIPTION:Contact: Creative Productions \nTelephone: ( 405 ) 747 – 7206 \nEmail: fallfestivalofstillwater@gmail.com
URL:https://pcexpocenter.com/event/fall-festival-craft-show-3/
LOCATION:Expo Hall / Heritage Hall /Community Building / McVey Arena
CATEGORIES:Public Events
END:VEVENT
BEGIN:VEVENT
DTSTART;TZID=America/Chicago:20231103T100000
DTEND;TZID=America/Chicago:20231103T180000
DTSTAMP:20260422T142931
CREATED:20230203T172728Z
LAST-MODIFIED:20230203T173748Z
UID:2027-1699005600-1699034400@pcexpocenter.com
SUMMARY:Fall Festival Craft Show
DESCRIPTION:Contact: Creative Productions \nTelephone: ( 405 ) 747 – 7206 \nEmail: fallfestivalofstillwater@gmail.com
URL:https://pcexpocenter.com/event/fall-festival-craft-show-2/
LOCATION:Expo Hall / Heritage Hall /Community Building / McVey Arena
CATEGORIES:Public Events
END:VEVENT
BEGIN:VEVENT
DTSTART;TZID=America/Chicago:20231102T080000
DTEND;TZID=America/Chicago:20231102T210000
DTSTAMP:20260422T142931
CREATED:20230202T222743Z
LAST-MODIFIED:20230202T222749Z
UID:2025-1698912000-1698958800@pcexpocenter.com
SUMMARY:Fall Festival Craft Show ( Move in Day )
DESCRIPTION:
URL:https://pcexpocenter.com/event/fall-festival-craft-show-move-in-day/
LOCATION:Expo Hall / Heritage Hall /Community Building / McVey Arena
CATEGORIES:Private Events
END:VEVENT
BEGIN:VEVENT
DTSTART;TZID=America/Chicago:20231030T120000
DTEND;TZID=America/Chicago:20231030T170000
DTSTAMP:20260422T142931
CREATED:20230619T185739Z
LAST-MODIFIED:20230925T164322Z
UID:2526-1698667200-1698685200@pcexpocenter.com
SUMMARY:Skills USA Fall Student Conference ( Setup Day Only )
DESCRIPTION:
URL:https://pcexpocenter.com/event/skills-usa-fall-student-conference-setup-day-only/
LOCATION:Expo Hall / Heritage Hall /Community Building / McVey Arena
CATEGORIES:Private Events
END:VEVENT
BEGIN:VEVENT
DTSTART;TZID=America/Chicago:20230623T090000
DTEND;TZID=America/Chicago:20230623T180000
DTSTAMP:20260422T142931
CREATED:20221107T172254Z
LAST-MODIFIED:20221107T172254Z
UID:880-1687510800-1687543200@pcexpocenter.com
SUMMARY:Stillwater Summerfest Craft Show
DESCRIPTION:Contact: Sue Roberson \nTelephone: ( 405 ) 747 – 7206
URL:https://pcexpocenter.com/event/stillwater-summerfest-craft-show/2023-06-23/
LOCATION:Expo Hall / Heritage Hall /Community Building / McVey Arena
CATEGORIES:Public Events
END:VEVENT
BEGIN:VEVENT
DTSTART;TZID=America/Chicago:20230622T120000
DTEND;TZID=America/Chicago:20230622T210000
DTSTAMP:20260422T142931
CREATED:20221107T171822Z
LAST-MODIFIED:20221107T171822Z
UID:877-1687435200-1687467600@pcexpocenter.com
SUMMARY:Stillwater Summerfest Craft Show (Move In Day Only)
DESCRIPTION:Contact: Sue Roberson \nTelephone: ( 405 ) 747 – 7206
URL:https://pcexpocenter.com/event/stillwater-summerfest-craft-show-move-in-day-only/
LOCATION:Expo Hall / Heritage Hall /Community Building / McVey Arena
CATEGORIES:Public Events
END:VEVENT
BEGIN:VEVENT
DTSTART;TZID=America/Chicago:20230322T070000
DTEND;TZID=America/Chicago:20230322T180000
DTSTAMP:20260422T142931
CREATED:20221107T203224Z
LAST-MODIFIED:20221107T203224Z
UID:996-1679468400-1679508000@pcexpocenter.com
SUMMARY:FCCLA Star Competition
DESCRIPTION:Contact: Brittani Phillips \nTelephone: ( 405 ) 743 – 5467
URL:https://pcexpocenter.com/event/fccla-star-competition/2023-03-22/
LOCATION:Expo Hall / Heritage Hall /Community Building / McVey Arena
CATEGORIES:Public Events
END:VEVENT
BEGIN:VEVENT
DTSTART;TZID=America/Chicago:20230321T170000
DTEND;TZID=America/Chicago:20230321T210000
DTSTAMP:20260422T142931
CREATED:20221107T203100Z
LAST-MODIFIED:20221107T203100Z
UID:993-1679418000-1679432400@pcexpocenter.com
SUMMARY:FCCLA Star Competition (Move In Day)
DESCRIPTION:Contact: Brittani Phillips \nTelephone: ( 405 ) 743 – 5467
URL:https://pcexpocenter.com/event/fccla-star-competition-move-in-day/
LOCATION:Expo Hall / Heritage Hall /Community Building / McVey Arena
CATEGORIES:Public Events
END:VEVENT
BEGIN:VEVENT
DTSTART;TZID=America/Chicago:20221203T090000
DTEND;TZID=America/Chicago:20221203T170000
DTSTAMP:20260422T142931
CREATED:20221107T115351Z
LAST-MODIFIED:20221109T173158Z
UID:721-1670058000-1670086800@pcexpocenter.com
SUMMARY:HOLIDAY CRAFT SHOW
DESCRIPTION:Contact: Teri Aldridge \nTelephone: ( 580 ) 455 – 2273 best by text message.
URL:https://pcexpocenter.com/event/holiday-craft-show/
LOCATION:Expo Hall / Heritage Hall /Community Building / McVey Arena
CATEGORIES:Public Events
END:VEVENT
BEGIN:VEVENT
DTSTART;TZID=America/Chicago:20221104T100000
DTEND;TZID=America/Chicago:20221104T180000
DTSTAMP:20260422T142931
CREATED:20221107T081306Z
LAST-MODIFIED:20221109T164006Z
UID:660-1667556000-1667584800@pcexpocenter.com
SUMMARY:FALL FESTIVAL CRAFT SHOW
DESCRIPTION:Contact: Sue Roberson \nEmail: fallfestivalofstillwater@gmail.com \nCreative Productions \nTelephone: ( 405 ) 747 – 7206 \nWebsite / Facebook: Stillwater Fall Festival
URL:https://pcexpocenter.com/event/fall-festival-craft-show/2022-11-04/
LOCATION:Expo Hall / Heritage Hall /Community Building / McVey Arena
CATEGORIES:Public Events
END:VEVENT
BEGIN:VEVENT
DTSTART;TZID=America/Chicago:20221103T150000
DTEND;TZID=America/Chicago:20221103T210000
DTSTAMP:20260422T142931
CREATED:20221107T080220Z
LAST-MODIFIED:20221109T164046Z
UID:657-1667487600-1667509200@pcexpocenter.com
SUMMARY:FALL FESTIVAL CRAFT SHOW ( VENDOR MOVE IN ONLY )
DESCRIPTION:Setup / Movein Day only. \nContact: Sue Roberson \nTelephone: ( 405 ) 747 – 7206 \nWebsite / Facebook: Stillwater Fall Festival
URL:https://pcexpocenter.com/event/fall-festival-craft-show-vendor-move-in-only/
LOCATION:Expo Hall / Heritage Hall /Community Building / McVey Arena
CATEGORIES:Private Events
END:VEVENT
END:VCALENDAR